Workbook
Name ThisCell: INDIRECT("RC",0)

Sheet טופס 106  חודשי משתתפות
A1: =[1]הערות!A1 -> V2.01 | B1: =[1]הערות!C2 -> אי.די.אי חברה לביטוח הע"מ
B2: דו"ח חודשי, שיעורי ההשקעות ורכוש קבוע מסך כל ההתחייבויות לתקופה שנסתיימה ביום - | L2: =[1]הערות!C4 -> 28.02.26 | N2: חזרה
B3: =CONCATENATE([1]הערות!$G$104) -> הסכומים באלפי ש"ח | K3: =CONCATENATE(I1) | O3: 1 | P3: =O3+1 -> 2 | Q3: =P3+1 -> 3 | R3: =Q3+1 -> 4 | S3: =R3+1 -> 5
J6: סה"כ משתתף ברווחים | K6: ביטוח חיים
K7: 10 | L7: 11 | M7: 12 | N7: 13
I8: חזרה | K8: ='[1]נספחים ב וג'!$C$10 -> קרן ח' | L8: ='[1]נספחים ב וג'!$C$11 -> קרן ט' | M8: ='[1]נספחים ב וג'!$C$12 -> קרן י' | N8: ='[1]נספחים ב וג'!$C$13 -> קרן י' פוליסות שהונפקו לאחר 1.1.04 | O8: ='[1]נספחים ב וג'!$C$30 -> איי. די. איי. חברה לביטוח בע"מ מסלול אג"ח ממשלות | P8: ='[1]נספחים ב וג'!$C$31 -> איי.די.איי. מסלול אשראי ואג"ח | Q8: ='[1]נספחים ב וג'!$C$32 -> אי.די.אי.-כללי | R8: ='[1]נספחים ב וג'!$C$33 -> איי. די. איי. מסלול מניות | S8: ='[1]נספחים ב וג'!$C$34 -> איי.דיא.איי מחקה S&P500
A9: שורה | K9: =[1]הערות!$D$64 | L9: =[1]הערות!$E$64 | M9: =[1]הערות!$F$64 | N9: =[1]הערות!$G$64 | O9: ='[1]נספחים ב וג'!$B$30 -> 1 | P9: ='[1]נספחים ב וג'!$B$31 -> 98 | Q9: ='[1]נספחים ב וג'!$B$32 -> 108 | R9: ='[1]נספחים ב וג'!$B$33 -> 12895 | S9: ='[1]נספחים ב וג'!$B$34 -> 15779
A10: 10 | B10: 1. | C10: השקעות | J10: =SUM(K10:CG10) -> 419857.27 | K10: =SUM(K11,K24,K392,K417,K454,K486,K494) -> 0 | L10: =SUM(L11,L24,L392,L417,L454,L486,L494) -> 0 | M10: =SUM(M11,M24,M392,M417,M454,M486,M494) -> 0 | N10: =SUM(N11,N24,N392,N417,N454,N486,N494) -> 0 | O10: =SUM(O11,O24,O392,O417,O454,O486,O494) -> 80028.579 | P10: =SUM(P11,P24,P392,P417,P454,P486,P494) -> 71916.991 | Q10: =SUM(Q11,Q24,Q392,Q417,Q454,Q486,Q494) -> 178493.73 | R10: =SUM(R11,R24,R392,R417,R454,R486,R494) -> 88913.716 | S10: =SUM(S11,S24,S392,S417,S454,S486,S494) -> 504.24697
A11: =A10+1 -> 11 | C11: א. | D11: מזומנים ושווי מזומנים | J11: =SUM(K11:CG11) -> 22366.946 | K11: =SUM(K12,K20) -> 0 | L11: =SUM(L12,L20) -> 0 | M11: =SUM(M12,M20) -> 0 | N11: =SUM(N12,N20) -> 0 | O11: =SUM(O12,O20) -> 1889.0093 | P11: =SUM(P12,P20) -> 1239.1407 | Q11: =SUM(Q12,Q20) -> 10564.694 | R11: =SUM(R12,R20) -> 8659.7158 | S11: =SUM(S12,S20) -> 14.38697
A12: =A11+1 -> 12 | D12: (1 | E12: בישראל | J12: =SUM(K12:CG12) -> 22366.946 | K12: =SUM(K13:K19) -> 0 | L12: =SUM(L13:L19) -> 0 | M12: =SUM(M13:M19) -> 0 | N12: =SUM(N13:N19) -> 0 | O12: =SUM(O13:O19) -> 1889.0093 | P12: =SUM(P13:P19) -> 1239.1407 | Q12: =SUM(Q13:Q19) -> 10564.694 | R12: =SUM(R13:R19) -> 8659.7158 | S12: =SUM(S13:S19) -> 14.38697
A13: =A12+1 -> 13 | E13: א) | F13: יתרות מזומנים ועו"ש בשקלים חדשים | J13: =SUM(K13:CG13) -> 0 | O13: 0 | P13: 0 | Q13: 0 | R13: 0 | S13: 0
A14: =A13+1 -> 14 | E14: ב) | F14: יתרות מזומנים ועו"ש נקובים במט"ח | J14: =SUM(K14:CG14) -> 2725.2065 | O14: 967.99931 | P14: 1379.4407 | Q14: 364.5037 | R14: 13.26583 | S14: -0.00303
A15: =A14+1 -> 15 | E15: ג) | F15: פח"ק/פר"י | J15: =SUM(K15:CG15) -> 19641.74 | O15: 921.01 | P15: -140.3 | Q15: 10200.19 | R15: 8646.45 | S15: 14.39
A16: =A15+1 -> 16 | E16: ד) | F16: פק"מ לתקופה של עד שלושה חודשים | J16: =SUM(K16:CG16) -> 0
A17: =A16+1 -> 17 | E17: ה) | F17: פיקדון צמוד מדד עד שלושה חודשים | J17: =SUM(K17:CG17) -> 0
A18: =A17+1 -> 18 | E18: ו) | F18: פיקדון צמוד מט"ח עד שלושה חודשים (פצ"מ) | J18: =SUM(K18:CG18) -> 0
A19: =A18+1 -> 19 | E19: ז) | F19: פיקדונות במט"ח עד שלושה חודשים | J19: =SUM(K19:CG19) -> 0
A20: =A19+1 -> 20 | D20: (2 | E20: בחו"ל | J20: =SUM(K20:CG20) -> 0 | K20: =SUM(K21:K22) -> 0 | L20: =SUM(L21:L22) -> 0 | M20: =SUM(M21:M22) -> 0 | N20: =SUM(N21:N22) -> 0 | O20: =SUM(O21:O22) -> 0 | P20: =SUM(P21:P22) -> 0 | Q20: =SUM(Q21:Q22) -> 0 | R20: =SUM(R21:R22) -> 0 | S20: =SUM(S21:S22) -> 0
A21: =A20+1 -> 21 | E21: א) | F21: יתרות מזומנים ועו"ש נקובים במט"ח | J21: =SUM(K21:CG21) -> 0
A22: =A21+1 -> 22 | E22: ב) | F22: פיקדונות במט"ח עד שלושה חודשים | J22: =SUM(K22:CG22) -> 0
A23: =A22+1 -> 23
A24: =A23+1 -> 24 | C24: ב. | D24: ניירות ערך (למעט בחברות מוחזקות) | J24: =SUM(K24:CG24) -> 392253.9 | K24: =SUM(K25,K96,K155,K189,K197,K209,K217,K234,K175,K44,K280) -> 0 | L24: =SUM(L25,L96,L155,L189,L197,L209,L217,L234,L175,L44,L280) -> 0 | M24: =SUM(M25,M96,M155,M189,M197,M209,M217,M234,M175,M44,M280) -> 0 | N24: =SUM(N25,N96,N155,N189,N197,N209,N217,N234,N175,N44,N280) -> 0 | O24: =SUM(O25,O96,O155,O189,O197,O209,O217,O234,O175,O44,O280) -> 77533.34 | P24: =SUM(P25,P96,P155,P189,P197,P209,P217,P234,P175,P44,P280) -> 69318.87 | Q24: =SUM(Q25,Q96,Q155,Q189,Q197,Q209,Q217,Q234,Q175,Q44,Q280) -> 164657.83 | R24: =SUM(R25,R96,R155,R189,R197,R209,R217,R234,R175,R44,R280) -> 80254 | S24: =SUM(S25,S96,S155,S189,S197,S209,S217,S234,S175,S44,S280) -> 489.86
A25: =A24+1 -> 25 | D25: (1 | E25: אגרות חוב ממשלתיות: | J25: =SUM(K25:CG25) -> 110435.93 | K25: =SUM(K26,K36) -> 0 | L25: =SUM(L26,L36) -> 0 | M25: =SUM(M26,M36) -> 0 | N25: =SUM(N26,N36) -> 0 | O25: =SUM(O26,O36) -> 60570.08 | P25: =SUM(P26,P36) -> 27488.09 | Q25: =SUM(Q26,Q36) -> 22192.01 | R25: =SUM(R26,R36) -> 185.75 | S25: =SUM(S26,S36) -> 0
A26: =A25+1 -> 26 | E26: א) | F26: בישראל | J26: =SUM(K26:CG26) -> 110435.93 | K26: =SUM(K27,K34:K35) -> 0 | L26: =SUM(L27,L34:L35) -> 0 | M26: =SUM(M27,M34:M35) -> 0 | N26: =SUM(N27,N34:N35) -> 0 | O26: =SUM(O27,O34:O35) -> 60570.08 | P26: =SUM(P27,P34:P35) -> 27488.09 | Q26: =SUM(Q27,Q34:Q35) -> 22192.01 | R26: =SUM(R27,R34:R35) -> 185.75 | S26: =SUM(S27,S34:S35) -> 0
A27: =A26+1 -> 27 | F27: (1) | G27: סחיר | J27: =SUM(K27:CG27) -> 110435.93 | K27: =SUM(K28:K32) -> 0 | L27: =SUM(L28:L32) -> 0 | M27: =SUM(M28:M32) -> 0 | N27: =SUM(N28:N32) -> 0 | O27: =SUM(O28:O32) -> 60570.08 | P27: =SUM(P28:P32) -> 27488.09 | Q27: =SUM(Q28:Q32) -> 22192.01 | R27: =SUM(R28:R32) -> 185.75 | S27: =SUM(S28:S32) -> 0
A28: =A27+1 -> 28 | G28: (א) | H28: צמוד מדד | J28: =SUM(K28:CG28) -> 43220.77 | O28: 29371.11 | P28: 7797.13 | Q28: 6052.53
A29: =A28+1 -> 29 | G29: (ג) | H29: לא צמוד בריבית קבועה | J29: =SUM(K29:CG29) -> 67215.16 | O29: 31198.97 | P29: 19690.96 | Q29: 16139.48 | R29: 185.75
A30: =A29+1 -> 30 | G30: (ד) | H30: לא צמוד בריבית משתנה | J30: =SUM(K30:CG30) -> 0
A31: =A30+1 -> 31 | G31: (ה) | H31: צמוד מט"ח | J31: =SUM(K31:CG31) -> 0
A32: =A31+1 -> 32 | G32: (ו) | H32: מק"מ | J32: =SUM(K32:CG32) -> 0
A33: =A32+1 -> 33 | F33: (2) | G33: לא סחיר | J33: =SUM(K33:CG33) -> 0 | K33: =SUM(K34:K35) -> 0 | L33: =SUM(L34:L35) -> 0 | M33: =SUM(M34:M35) -> 0 | N33: =SUM(N34:N35) -> 0 | O33: =SUM(O34:O35) -> 0 | P33: =SUM(P34:P35) -> 0 | Q33: =SUM(Q34:Q35) -> 0 | R33: =SUM(R34:R35) -> 0 | S33: =SUM(S34:S35) -> 0
A34: =A33+1 -> 34 | G34: (א) | H34: אג"ח מיועדות - הסכמי "חץ" כולל אג"ח של חברת החשמל | J34: =SUM(K34:CG34) -> 0
A35: =A34+1 -> 35 | G35: (ב) | H35: אג"ח לא סחירות אחרות | J35: =SUM(K35:CG35) -> 0
A36: =A35+1 -> 36 | E36: ב) | F36: בחו"ל | J36: =SUM(K36:CG36) -> 0 | K36: =SUM(K40,K37) -> 0 | L36: =SUM(L40,L37) -> 0 | M36: =SUM(M40,M37) -> 0 | N36: =SUM(N40,N37) -> 0 | O36: =SUM(O40,O37) -> 0 | P36: =SUM(P40,P37) -> 0 | Q36: =SUM(Q40,Q37) -> 0 | R36: =SUM(R40,R37) -> 0 | S36: =SUM(S40,S37) -> 0
A37: =A36+1 -> 37 | F37: (1) | G37: סחיר | J37: =SUM(K37:CG37) -> 0 | K37: =SUM(K38:K39) -> 0 | L37: =SUM(L38:L39) -> 0 | M37: =SUM(M38:M39) -> 0 | N37: =SUM(N38:N39) -> 0 | O37: =SUM(O38:O39) -> 0 | P37: =SUM(P38:P39) -> 0 | Q37: =SUM(Q38:Q39) -> 0 | R37: =SUM(R38:R39) -> 0 | S37: =SUM(S38:S39) -> 0
A38: =A37+1 -> 38 | G38: (א) | H38: ממשלת ישראל שהונפקו בחו"ל | J38: =SUM(K38:CG38) -> 0
A39: =A38+1 -> 39 | G39: (ב) | H39: שהנפיקה ממשלה זרה | J39: =SUM(K39:CG39) -> 0
A40: =A39+1 -> 40 | F40: (2) | G40: לא סחיר | J40: =SUM(K40:CG40) -> 0 | K40: =SUM(K41:K42) -> 0 | L40: =SUM(L41:L42) -> 0 | M40: =SUM(M41:M42) -> 0 | N40: =SUM(N41:N42) -> 0 | O40: =SUM(O41:O42) -> 0 | P40: =SUM(P41:P42) -> 0 | Q40: =SUM(Q41:Q42) -> 0 | R40: =SUM(R41:R42) -> 0 | S40: =SUM(S41:S42) -> 0
A41: =A40+1 -> 41 | G41: (א) | H41: ממשלת ישראל שהונפקו בחו"ל | J41: =SUM(K41:CG41) -> 0
A42: =A41+1 -> 42 | G42: (ב) | H42: שהנפיקה ממשלה זרה | J42: =SUM(K42:CG42) -> 0
A43: =A42+1 -> 43
A44: =A43+1 -> 44 | D44: (2 | E44: תעודות חוב מסחריות: | J44: =SUM(K44:CG44) -> 0 | K44: =SUM(K45,K76) -> 0 | L44: =SUM(L45,L76) -> 0 | M44: =SUM(M45,M76) -> 0 | N44: =SUM(N45,N76) -> 0 | O44: =SUM(O45,O76) -> 0 | P44: =SUM(P45,P76) -> 0 | Q44: =SUM(Q45,Q76) -> 0 | R44: =SUM(R45,R76) -> 0 | S44: =SUM(S45,S76) -> 0
A45: =A44+1 -> 45 | E45: א) | F45: בישראל | J45: =SUM(K45:CG45) -> 0 | K45: =SUM(K46,K59) -> 0 | L45: =SUM(L46,L59) -> 0 | M45: =SUM(M46,M59) -> 0 | N45: =SUM(N46,N59) -> 0 | O45: =SUM(O46,O59) -> 0 | P45: =SUM(P46,P59) -> 0 | Q45: =SUM(Q46,Q59) -> 0 | R45: =SUM(R46,R59) -> 0 | S45: =SUM(S46,S59) -> 0
A46: =A45+1 -> 46 | F46: (1) | G46: סחיר | J46: =SUM(K46:CG46) -> 0 | K46: =SUM(K47,K51,K55) -> 0 | L46: =SUM(L47,L51,L55) -> 0 | M46: =SUM(M47,M51,M55) -> 0 | N46: =SUM(N47,N51,N55) -> 0 | O46: =SUM(O47,O51,O55) -> 0 | P46: =SUM(P47,P51,P55) -> 0 | Q46: =SUM(Q47,Q51,Q55) -> 0 | R46: =SUM(R47,R51,R55) -> 0 | S46: =SUM(S47,S51,S55) -> 0
A47: =A46+1 -> 47 | G47: (א) | H47: דרוג AA- ומעלה | J47: =SUM(K47:CG47) -> 0 | K47: =SUM(K48:K50) -> 0 | L47: =SUM(L48:L50) -> 0 | M47: =SUM(M48:M50) -> 0 | N47: =SUM(N48:N50) -> 0 | O47: =SUM(O48:O50) -> 0 | P47: =SUM(P48:P50) -> 0 | Q47: =SUM(Q48:Q50) -> 0 | R47: =SUM(R48:R50) -> 0 | S47: =SUM(S48:S50) -> 0
A48: =A47+1 -> 48 | H48: a | I48: צמוד מדד | J48: =SUM(K48:CG48) -> 0
A49: =A48+1 -> 49 | H49: b | I49: לא צמוד | J49: =SUM(K49:CG49) -> 0
A50: =A49+1 -> 50 | H50: c | I50: צמוד מט"ח | J50: =SUM(K50:CG50) -> 0
A51: =A50+1 -> 51 | G51: (ב) | H51: דרוג BBB- ועד A+ | J51: =SUM(K51:CG51) -> 0 | K51: =SUM(K52:K54) -> 0 | L51: =SUM(L52:L54) -> 0 | M51: =SUM(M52:M54) -> 0 | N51: =SUM(N52:N54) -> 0 | O51: =SUM(O52:O54) -> 0 | P51: =SUM(P52:P54) -> 0 | Q51: =SUM(Q52:Q54) -> 0 | R51: =SUM(R52:R54) -> 0 | S51: =SUM(S52:S54) -> 0
A52: =A51+1 -> 52 | H52: a | I52: צמוד מדד | J52: =SUM(K52:CG52) -> 0
A53: =A52+1 -> 53 | H53: b | I53: לא צמוד | J53: =SUM(K53:CG53) -> 0
A54: =A53+1 -> 54 | H54: c | I54: צמוד מט"ח | J54: =SUM(K54:CG54) -> 0
A55: =A54+1 -> 55 | G55: (ג) | H55: דרוג נמוך מ- BBB- או לא מדורג | J55: =SUM(K55:CG55) -> 0 | K55: =SUM(K56:K58) -> 0 | L55: =SUM(L56:L58) -> 0 | M55: =SUM(M56:M58) -> 0 | N55: =SUM(N56:N58) -> 0 | O55: =SUM(O56:O58) -> 0 | P55: =SUM(P56:P58) -> 0 | Q55: =SUM(Q56:Q58) -> 0 | R55: =SUM(R56:R58) -> 0 | S55: =SUM(S56:S58) -> 0
A56: =A55+1 -> 56 | H56: a | I56: צמוד מדד | J56: =SUM(K56:CG56) -> 0
A57: =A56+1 -> 57 | H57: b | I57: לא צמוד | J57: =SUM(K57:CG57) -> 0
A58: =A57+1 -> 58 | H58: c | I58: צמוד מט"ח | J58: =SUM(K58:CG58) -> 0
A59: =A58+1 -> 59 | F59: (2) | G59: לא סחיר | J59: =SUM(K59:CG59) -> 0 | K59: =SUM(K60,K64,K72,K68) -> 0 | L59: =SUM(L60,L64,L72,L68) -> 0 | M59: =SUM(M60,M64,M72,M68) -> 0 | N59: =SUM(N60,N64,N72,N68) -> 0 | O59: =SUM(O60,O64,O72,O68) -> 0 | P59: =SUM(P60,P64,P72,P68) -> 0 | Q59: =SUM(Q60,Q64,Q72,Q68) -> 0 | R59: =SUM(R60,R64,R72,R68) -> 0 | S59: =SUM(S60,S64,S72,S68) -> 0
A60: =A59+1 -> 60 | G60: (א) | H60: =$H$47 -> דרוג AA- ומעלה | J60: =SUM(K60:CG60) -> 0 | K60: =SUM(K61:K63) -> 0 | L60: =SUM(L61:L63) -> 0 | M60: =SUM(M61:M63) -> 0 | N60: =SUM(N61:N63) -> 0 | O60: =SUM(O61:O63) -> 0 | P60: =SUM(P61:P63) -> 0 | Q60: =SUM(Q61:Q63) -> 0 | R60: =SUM(R61:R63) -> 0 | S60: =SUM(S61:S63) -> 0
A61: =A60+1 -> 61 | H61: a | I61: צמוד מדד | J61: =SUM(K61:CG61) -> 0
A62: =A61+1 -> 62 | H62: b | I62: לא צמוד | J62: =SUM(K62:CG62) -> 0
A63: =A62+1 -> 63 | H63: c | I63: צמוד מט"ח | J63: =SUM(K63:CG63) -> 0
A64: =A63+1 -> 64 | G64: (ב) | H64: =$H$51 -> דרוג BBB- ועד A+ | J64: =SUM(K64:CG64) -> 0 | K64: =SUM(K65:K67) -> 0 | L64: =SUM(L65:L67) -> 0 | M64: =SUM(M65:M67) -> 0 | N64: =SUM(N65:N67) -> 0 | O64: =SUM(O65:O67) -> 0 | P64: =SUM(P65:P67) -> 0 | Q64: =SUM(Q65:Q67) -> 0 | R64: =SUM(R65:R67) -> 0 | S64: =SUM(S65:S67) -> 0
A65: =A64+1 -> 65 | H65: a | I65: צמוד מדד | J65: =SUM(K65:CG65) -> 0
A66: =A65+1 -> 66 | H66: b | I66: לא צמוד | J66: =SUM(K66:CG66) -> 0
A67: =A66+1 -> 67 | H67: c | I67: צמוד מט"ח | J67: =SUM(K67:CG67) -> 0
A68: =A67+1 -> 68 | G68: (ג) | H68: בדרוג נמוך מ- BBB- או לא מדורג עם בטוחה מספקת | J68: =SUM(K68:CG68) -> 0 | K68: =SUM(K69:K71) -> 0 | L68: =SUM(L69:L71) -> 0 | M68: =SUM(M69:M71) -> 0 | N68: =SUM(N69:N71) -> 0 | O68: =SUM(O69:O71) -> 0 | P68: =SUM(P69:P71) -> 0 | Q68: =SUM(Q69:Q71) -> 0 | R68: =SUM(R69:R71) -> 0 | S68: =SUM(S69:S71) -> 0
A69: =A68+1 -> 69 | H69: a | I69: צמוד מדד | J69: =SUM(K69:CG69) -> 0
A70: =A69+1 -> 70 | H70: b | I70: לא צמוד | J70: =SUM(K70:CG70) -> 0
A71: =A70+1 -> 71 | H71: c | I71: צמוד מט"ח | J71: =SUM(K71:CG71) -> 0
A72: =A71+1 -> 72 | G72: (ד) | H72: =$H$55 -> דרוג נמוך מ- BBB- או לא מדורג | J72: =SUM(K72:CG72) -> 0 | K72: =SUM(K73:K75) -> 0 | L72: =SUM(L73:L75) -> 0 | M72: =SUM(M73:M75) -> 0 | N72: =SUM(N73:N75) -> 0 | O72: =SUM(O73:O75) -> 0 | P72: =SUM(P73:P75) -> 0 | Q72: =SUM(Q73:Q75) -> 0 | R72: =SUM(R73:R75) -> 0 | S72: =SUM(S73:S75) -> 0
A73: =A72+1 -> 73 | H73: a | I73: צמוד מדד | J73: =SUM(K73:CG73) -> 0
A74: =A73+1 -> 74 | H74: b | I74: לא צמוד | J74: =SUM(K74:CG74) -> 0
A75: =A74+1 -> 75 | H75: c | I75: צמוד מט"ח | J75: =SUM(K75:CG75) -> 0
A76: =A75+1 -> 76 | E76: ב) | F76: בחו"ל | J76: =SUM(K76:CG76) -> 0 | K76: =SUM(K77,K81,K86,K90) -> 0 | L76: =SUM(L77,L81,L86,L90) -> 0 | M76: =SUM(M77,M81,M86,M90) -> 0 | N76: =SUM(N77,N81,N86,N90) -> 0 | O76: =SUM(O77,O81,O86,O90) -> 0 | P76: =SUM(P77,P81,P86,P90) -> 0 | Q76: =SUM(Q77,Q81,Q86,Q90) -> 0 | R76: =SUM(R77,R81,R86,R90) -> 0 | S76: =SUM(S77,S81,S86,S90) -> 0
A77: =A76+1 -> 77 | F77: (1) | G77: סחיר - חברות ישראליות | J77: =SUM(K77:CG77) -> 0 | K77: =SUM(K78:K80) -> 0 | L77: =SUM(L78:L80) -> 0 | M77: =SUM(M78:M80) -> 0 | N77: =SUM(N78:N80) -> 0 | O77: =SUM(O78:O80) -> 0 | P77: =SUM(P78:P80) -> 0 | Q77: =SUM(Q78:Q80) -> 0 | R77: =SUM(R78:R80) -> 0 | S77: =SUM(S78:S80) -> 0
A78: =A77+1 -> 78 | G78: (א) | H78: דרוג A- ומעלה | J78: =SUM(K78:CG78) -> 0
A79: =A78+1 -> 79 | G79: (ב) | H79: דרוג BBB- ועד BBB+ | J79: =SUM(K79:CG79) -> 0
A80: =A79+1 -> 80 | G80: (ג) | H80: דרוג נמוך מ- BBB- או לא מדורג | J80: =SUM(K80:CG80) -> 0
A81: =A80+1 -> 81 | F81: (2) | G81: לא סחיר - חברות ישראליות | J81: =SUM(K81:CG81) -> 0 | K81: =SUM(K82:K85) -> 0 | L81: =SUM(L82:L85) -> 0 | M81: =SUM(M82:M85) -> 0 | N81: =SUM(N82:N85) -> 0 | O81: =SUM(O82:O85) -> 0 | P81: =SUM(P82:P85) -> 0 | Q81: =SUM(Q82:Q85) -> 0 | R81: =SUM(R82:R85) -> 0 | S81: =SUM(S82:S85) -> 0
A82: =A81+1 -> 82 | G82: (א) | H82: =$H$78 -> דרוג A- ומעלה | J82: =SUM(K82:CG82) -> 0
A83: =A82+1 -> 83 | G83: (ב) | H83: =$H$79 -> דרוג BBB- ועד BBB+ | J83: =SUM(K83:CG83) -> 0
A84: =A83+1 -> 84 | G84: (ג) | H84: =$H$68 -> בדרוג נמוך מ- BBB- או לא מדורג עם בטוחה מספקת | J84: =SUM(K84:CG84) -> 0
A85: =A84+1 -> 85 | G85: (ד) | H85: =H80 -> דרוג נמוך מ- BBB- או לא מדורג | J85: =SUM(K85:CG85) -> 0
A86: =A85+1 -> 86 | F86: (3) | G86: סחיר - חברות זרות | J86: =SUM(K86:CG86) -> 0 | K86: =SUM(K87:K89) -> 0 | L86: =SUM(L87:L89) -> 0 | M86: =SUM(M87:M89) -> 0 | N86: =SUM(N87:N89) -> 0 | O86: =SUM(O87:O89) -> 0 | P86: =SUM(P87:P89) -> 0 | Q86: =SUM(Q87:Q89) -> 0 | R86: =SUM(R87:R89) -> 0 | S86: =SUM(S87:S89) -> 0
A87: =A86+1 -> 87 | G87: (א) | H87: =$H$78 -> דרוג A- ומעלה | J87: =SUM(K87:CG87) -> 0
A88: =A87+1 -> 88 | G88: (ב) | H88: =$H$79 -> דרוג BBB- ועד BBB+ | J88: =SUM(K88:CG88) -> 0
A89: =A88+1 -> 89 | G89: (ג) | H89: =$H$80 -> דרוג נמוך מ- BBB- או לא מדורג | J89: =SUM(K89:CG89) -> 0
A90: =A89+1 -> 90 | F90: (4) | G90: לא סחיר - חברות זרות | J90: =SUM(K90:CG90) -> 0 | K90: =SUM(K91:K94) -> 0 | L90: =SUM(L91:L94) -> 0 | M90: =SUM(M91:M94) -> 0 | N90: =SUM(N91:N94) -> 0 | O90: =SUM(O91:O94) -> 0 | P90: =SUM(P91:P94) -> 0 | Q90: =SUM(Q91:Q94) -> 0 | R90: =SUM(R91:R94) -> 0 | S90: =SUM(S91:S94) -> 0
A91: =A90+1 -> 91 | G91: (א) | H91: =$H$78 -> דרוג A- ומעלה | J91: =SUM(K91:CG91) -> 0
A92: =A91+1 -> 92 | G92: (ב) | H92: =$H$79 -> דרוג BBB- ועד BBB+ | J92: =SUM(K92:CG92) -> 0
A93: =A92+1 -> 93 | G93: (ג) | H93: =$H$68 -> בדרוג נמוך מ- BBB- או לא מדורג עם בטוחה מספקת | J93: =SUM(K93:CG93) -> 0
A94: =A93+1 -> 94 | G94: (ד) | H94: =H89 -> דרוג נמוך מ- BBB- או לא מדורג | J94: =SUM(K94:CG94) -> 0
A95: =A94+1 -> 95
A96: =A95+1 -> 96 | D96: (3 | E96: אג"ח קונצרני: | J96: =SUM(K96:CG96) -> 25331.03 | K96: =SUM(K97,K135) -> 0 | L96: =SUM(L97,L135) -> 0 | M96: =SUM(M97,M135) -> 0 | N96: =SUM(N97,N135) -> 0 | O96: =SUM(O97,O135) -> 3108.12 | P96: =SUM(P97,P135) -> 9349.31 | Q96: =SUM(Q97,Q135) -> 12873.6 | R96: =SUM(R97,R135) -> 0 | S96: =SUM(S97,S135) -> 0
A97: =A96+1 -> 97 | E97: א) | F97: בישראל | J97: =SUM(K97:CG97) -> 25331.03 | K97: =SUM(K98,K114) -> 0 | L97: =SUM(L98,L114) -> 0 | M97: =SUM(M98,M114) -> 0 | N97: =SUM(N98,N114) -> 0 | O97: =SUM(O98,O114) -> 3108.12 | P97: =SUM(P98,P114) -> 9349.31 | Q97: =SUM(Q98,Q114) -> 12873.6 | R97: =SUM(R98,R114) -> 0 | S97: =SUM(S98,S114) -> 0
A98: =A97+1 -> 98 | F98: (1) | G98: סחיר | J98: =SUM(K98:CG98) -> 23342.76 | K98: =SUM(K99,K104,K109) -> 0 | L98: =SUM(L99,L104,L109) -> 0 | M98: =SUM(M99,M104,M109) -> 0 | N98: =SUM(N99,N104,N109) -> 0 | O98: =SUM(O99,O104,O109) -> 3002.53 | P98: =SUM(P99,P104,P109) -> 7916.95 | Q98: =SUM(Q99,Q104,Q109) -> 12423.28 | R98: =SUM(R99,R104,R109) -> 0 | S98: =SUM(S99,S104,S109) -> 0
A99: =A98+1 -> 99 | G99: (א) | H99: =$H$47 -> דרוג AA- ומעלה | J99: =SUM(K99:CG99) -> 18352.16 | K99: =SUM(K100:K103) -> 0 | L99: =SUM(L100:L103) -> 0 | M99: =SUM(M100:M103) -> 0 | N99: =SUM(N100:N103) -> 0 | O99: =SUM(O100:O103) -> 2490.89 | P99: =SUM(P100:P103) -> 6436.32 | Q99: =SUM(Q100:Q103) -> 9424.95 | R99: =SUM(R100:R103) -> 0 | S99: =SUM(S100:S103) -> 0
A100: =A99+1 -> 100 | H100: a | I100: צמוד מדד | J100: =SUM(K100:CG100) -> 10110.58 | O100: 1465.42 | P100: 3638.09 | Q100: 5007.07
A101: =A100+1 -> 101 | H101: b | I101: לא צמוד | J101: =SUM(K101:CG101) -> 7994.2 | O101: 1025.47 | P101: 2647.53 | Q101: 4321.2
A102: =A101+1 -> 102 | H102: c | I102: צמוד מט"ח | J102: =SUM(K102:CG102) -> 247.38 | P102: 150.7 | Q102: 96.68
...
