Workbook
Name ThisCell: INDIRECT("RC",0)

Sheet טופס 106  חודשי משתתפות
A1: =[1]הערות!A1 -> V2.01 | B1: =[1]הערות!C2 -> אי.די.אי חברה לביטוח הע"מ
B2: דו"ח חודשי, שיעורי ההשקעות ורכוש קבוע מסך כל ההתחייבויות לתקופה שנסתיימה ביום - | L2: =[1]הערות!C4 -> 28.02.26 | N2: חזרה
B3: =CONCATENATE([1]הערות!$G$104) -> הסכומים באלפי ש"ח | K3: =CONCATENATE(I1) | O3: 1 | P3: =O3+1 -> 2 | Q3: =P3+1 -> 3 | R3: =Q3+1 -> 4 | S3: =R3+1 -> 5
J6: סה"כ משתתף ברווחים | K6: ביטוח חיים
K7: 10 | L7: 11 | M7: 12 | N7: 13
I8: חזרה | K8: ='[1]נספחים ב וג'!$C$10 -> קרן ח' | L8: ='[1]נספחים ב וג'!$C$11 -> קרן ט' | M8: ='[1]נספחים ב וג'!$C$12 -> קרן י' | N8: ='[1]נספחים ב וג'!$C$13 -> קרן י' פוליסות שהונפקו לאחר 1.1.04 | O8: ='[1]נספחים ב וג'!$C$30 -> איי. די. איי. חברה לביטוח בע"מ מסלול אג"ח ממשלות | P8: ='[1]נספחים ב וג'!$C$31 -> איי.די.איי. מסלול אשראי ואג"ח | Q8: ='[1]נספחים ב וג'!$C$32 -> אי.די.אי.-כללי | R8: ='[1]נספחים ב וג'!$C$33 -> איי. די. איי. מסלול מניות | S8: ='[1]נספחים ב וג'!$C$34 -> איי.דיא.איי מחקה S&P500
A9: שורה | K9: =[1]הערות!$D$64 | L9: =[1]הערות!$E$64 | M9: =[1]הערות!$F$64 | N9: =[1]הערות!$G$64 | O9: ='[1]נספחים ב וג'!$B$30 -> 1 | P9: ='[1]נספחים ב וג'!$B$31 -> 98 | Q9: ='[1]נספחים ב וג'!$B$32 -> 108 | R9: ='[1]נספחים ב וג'!$B$33 -> 12895 | S9: ='[1]נספחים ב וג'!$B$34 -> 15779
A10: 10 | B10: 1. | C10: השקעות | J10: =SUM(K10:CG10) -> 419857.27 | K10: =SUM(K11,K24,K392,K417,K454,K486,K494) -> 0 | L10: =SUM(L11,L24,L392,L417,L454,L486,L494) -> 0 | M10: =SUM(M11,M24,M392,M417,M454,M486,M494) -> 0 | N10: =SUM(N11,N24,N392,N417,N454,N486,N494) -> 0 | O10: =SUM(O11,O24,O392,O417,O454,O486,O494) -> 80028.579 | P10: =SUM(P11,P24,P392,P417,P454,P486,P494) -> 71916.991 | Q10: =SUM(Q11,Q24,Q392,Q417,Q454,Q486,Q494) -> 178493.73 | R10: =SUM(R11,R24,R392,R417,R454,R486,R494) -> 88913.716 | S10: =SUM(S11,S24,S392,S417,S454,S486,S494) -> 504.24697
A11: =A10+1 -> 11 | C11: א. | D11: מזומנים ושווי מזומנים | J11: =SUM(K11:CG11) -> 22366.946 | K11: =SUM(K12,K20) -> 0 | L11: =SUM(L12,L20) -> 0 | M11: =SUM(M12,M20) -> 0 | N11: =SUM(N12,N20) -> 0 | O11: =SUM(O12,O20) -> 1889.0093 | P11: =SUM(P12,P20) -> 1239.1407 | Q11: =SUM(Q12,Q20) -> 10564.694 | R11: =SUM(R12,R20) -> 8659.7158 | S11: =SUM(S12,S20) -> 14.38697
A12: =A11+1 -> 12 | D12: (1 | E12: בישראל | J12: =SUM(K12:CG12) -> 22366.946 | K12: =SUM(K13:K19) -> 0 | L12: =SUM(L13:L19) -> 0 | M12: =SUM(M13:M19) -> 0 | N12: =SUM(N13:N19) -> 0 | O12: =SUM(O13:O19) -> 1889.0093 | P12: =SUM(P13:P19) -> 1239.1407 | Q12: =SUM(Q13:Q19) -> 10564.694 | R12: =SUM(R13:R19) -> 8659.7158 | S12: =SUM(S13:S19) -> 14.38697
A13: =A12+1 -> 13 | E13: א) | F13: יתרות מזומנים ועו"ש בשקלים חדשים | J13: =SUM(K13:CG13) -> 0 | O13: 0 | P13: 0 | Q13: 0 | R13: 0 | S13: 0
A14: =A13+1 -> 14 | E14: ב) | F14: יתרות מזומנים ועו"ש נקובים במט"ח | J14: =SUM(K14:CG14) -> 2725.2065 | O14: 967.99931 | P14: 1379.4407 | Q14: 364.5037 | R14: 13.26583 | S14: -0.00303
A15: =A14+1 -> 15 | E15: ג) | F15: פח"ק/פר"י | J15: =SUM(K15:CG15) -> 19641.74 | O15: 921.01 | P15: -140.3 | Q15: 10200.19 | R15: 8646.45 | S15: 14.39
A16: =A15+1 -> 16 | E16: ד) | F16: פק"מ לתקופה של עד שלושה חודשים | J16: =SUM(K16:CG16) -> 0
A17: =A16+1 -> 17 | E17: ה) | F17: פיקדון צמוד מדד עד שלושה חודשים | J17: =SUM(K17:CG17) -> 0
A18: =A17+1 -> 18 | E18: ו) | F18: פיקדון צמוד מט"ח עד שלושה חודשים (פצ"מ) | J18: =SUM(K18:CG18) -> 0
A19: =A18+1 -> 19 | E19: ז) | F19: פיקדונות במט"ח עד שלושה חודשים | J19: =SUM(K19:CG19) -> 0
A20: =A19+1 -> 20 | D20: (2 | E20: בחו"ל | J20: =SUM(K20:CG20) -> 0 | K20: =SUM(K21:K22) -> 0 | L20: =SUM(L21:L22) -> 0 | M20: =SUM(M21:M22) -> 0 | N20: =SUM(N21:N22) -> 0 | O20: =SUM(O21:O22) -> 0 | P20: =SUM(P21:P22) -> 0 | Q20: =SUM(Q21:Q22) -> 0 | R20: =SUM(R21:R22) -> 0 | S20: =SUM(S21:S22) -> 0
A21: =A20+1 -> 21 | E21: א) | F21: יתרות מזומנים ועו"ש נקובים במט"ח | J21: =SUM(K21:CG21) -> 0
A22: =A21+1 -> 22 | E22: ב) | F22: פיקדונות במט"ח עד שלושה חודשים | J22: =SUM(K22:CG22) -> 0
A23: =A22+1 -> 23
A24: =A23+1 -> 24 | C24: ב. | D24: ניירות ערך (למעט בחברות מוחזקות) | J24: =SUM(K24:CG24) -> 392253.9 | K24: =SUM(K25,K96,K155,K189,K197,K209,K217,K234,K175,K44,K280) -> 0 | L24: =SUM(L25,L96,L155,L189,L197,L209,L217,L234,L175,L44,L280) -> 0 | M24: =SUM(M25,M96,M155,M189,M197,M209,M217,M234,M175,M44,M280) -> 0 | N24: =SUM(N25,N96,N155,N189,N197,N209,N217,N234,N175,N44,N280) -> 0 | O24: =SUM(O25,O96,O155,O189,O197,O209,O217,O234,O175,O44,O280) -> 77533.34 | P24: =SUM(P25,P96,P155,P189,P197,P209,P217,P234,P175,P44,P280) -> 69318.87 | Q24: =SUM(Q25,Q96,Q155,Q189,Q197,Q209,Q217,Q234,Q175,Q44,Q280) -> 164657.83 | R24: =SUM(R25,R96,R155,R189,R197,R209,R217,R234,R175,R44,R280) -> 80254 | S24: =SUM(S25,S96,S155,S189,S197,S209,S217,S234,S175,S44,S280) -> 489.86
A25: =A24+1 -> 25 | D25: (1 | E25: אגרות חוב ממשלתיות: | J25: =SUM(K25:CG25) -> 110435.93 | K25: =SUM(K26,K36) -> 0 | L25: =SUM(L26,L36) -> 0 | M25: =SUM(M26,M36) -> 0 | N25: =SUM(N26,N36) -> 0 | O25: =SUM(O26,O36) -> 60570.08 | P25: =SUM(P26,P36) -> 27488.09 | Q25: =SUM(Q26,Q36) -> 22192.01 | R25: =SUM(R26,R36) -> 185.75 | S25: =SUM(S26,S36) -> 0
A26: =A25+1 -> 26 | E26: א) | F26: בישראל | J26: =SUM(K26:CG26) -> 110435.93 | K26: =SUM(K27,K34:K35) -> 0 | L26: =SUM(L27,L34:L35) -> 0 | M26: =SUM(M27,M34:M35) -> 0 | N26: =SUM(N27,N34:N35) -> 0 | O26: =SUM(O27,O34:O35) -> 60570.08 | P26: =SUM(P27,P34:P35) -> 27488.09 | Q26: =SUM(Q27,Q34:Q35) -> 22192.01 | R26: =SUM(R27,R34:R35) -> 185.75 | S26: =SUM(S27,S34:S35) -> 0
A27: =A26+1 -> 27 | F27: (1) | G27: סחיר | J27: =SUM(K27:CG27) -> 110435.93 | K27: =SUM(K28:K32) -> 0 | L27: =SUM(L28:L32) -> 0 | M27: =SUM(M28:M32) -> 0 | N27: =SUM(N28:N32) -> 0 | O27: =SUM(O28:O32) -> 60570.08 | P27: =SUM(P28:P32) -> 27488.09 | Q27: =SUM(Q28:Q32) -> 22192.01 | R27: =SUM(R28:R32) -> 185.75 | S27: =SUM(S28:S32) -> 0
A28: =A27+1 -> 28 | G28: (א) | H28: צמוד מדד | J28: =SUM(K28:CG28) -> 43220.77 | O28: 29371.11 | P28: 7797.13 | Q28: 6052.53
A29: =A28+1 -> 29 | G29: (ג) | H29: לא צמוד בריבית קבועה | J29: =SUM(K29:CG29) -> 67215.16 | O29: 31198.97 | P29: 19690.96 | Q29: 16139.48 | R29: 185.75
A30: =A29+1 -> 30 | G30: (ד) | H30: לא צמוד בריבית משתנה | J30: =SUM(K30:CG30) -> 0
A31: =A30+1 -> 31 | G31: (ה) | H31: צמוד מט"ח | J31: =SUM(K31:CG31) -> 0
A32: =A31+1 -> 32 | G32: (ו) | H32: מק"מ | J32: =SUM(K32:CG32) -> 0
A33: =A32+1 -> 33 | F33: (2) | G33: לא סחיר | J33: =SUM(K33:CG33) -> 0 | K33: =SUM(K34:K35) -> 0 | L33: =SUM(L34:L35) -> 0 | M33: =SUM(M34:M35) -> 0 | N33: =SUM(N34:N35) -> 0 | O33: =SUM(O34:O35) -> 0 | P33: =SUM(P34:P35) -> 0 | Q33: =SUM(Q34:Q35) -> 0 | R33: =SUM(R34:R35) -> 0 | S33: =SUM(S34:S35) -> 0
A34: =A33+1 -> 34 | G34: (א) | H34: אג"ח מיועדות - הסכמי "חץ" כולל אג"ח של חברת החשמל | J34: =SUM(K34:CG34) -> 0
A35: =A34+1 -> 35 | G35: (ב) | H35: אג"ח לא סחירות אחרות | J35: =SUM(K35:CG35) -> 0
A36: =A35+1 -> 36 | E36: ב) | F36: בחו"ל | J36: =SUM(K36:CG36) -> 0 | K36: =SUM(K40,K37) -> 0 | L36: =SUM(L40,L37) -> 0 | M36: =SUM(M40,M37) -> 0 | N36: =SUM(N40,N37) -> 0 | O36: =SUM(O40,O37) -> 0 | P36: =SUM(P40,P37) -> 0 | Q36: =SUM(Q40,Q37) -> 0 | R36: =SUM(R40,R37) -> 0 | S36: =SUM(S40,S37) -> 0
A37: =A36+1 -> 37 | F37: (1) | G37: סחיר | J37: =SUM(K37:CG37) -> 0 | K37: =SUM(K38:K39) -> 0 | L37: =SUM(L38:L39) -> 0 | M37: =SUM(M38:M39) -> 0 | N37: =SUM(N38:N39) -> 0 | O37: =SUM(O38:O39) -> 0 | P37: =SUM(P38:P39) -> 0 | Q37: =SUM(Q38:Q39) -> 0 | R37: =SUM(R38:R39) -> 0 | S37: =SUM(S38:S39) -> 0
A38: =A37+1 -> 38 | G38: (א) | H38: ממשלת ישראל שהונפקו בחו"ל | J38: =SUM(K38:CG38) -> 0
A39: =A38+1 -> 39 | G39: (ב) | H39: שהנפיקה ממשלה זרה | J39: =SUM(K39:CG39) -> 0
A40: =A39+1 -> 40 | F40: (2) | G40: לא סחיר | J40: =SUM(K40:CG40) -> 0 | K40: =SUM(K41:K42) -> 0 | L40: =SUM(L41:L42) -> 0 | M40: =SUM(M41:M42) -> 0 | N40: =SUM(N41:N42) -> 0 | O40: =SUM(O41:O42) -> 0 | P40: =SUM(P41:P42) -> 0 | Q40: =SUM(Q41:Q42) -> 0 | R40: =SUM(R41:R42) -> 0 | S40: =SUM(S41:S42) -> 0
A41: =A40+1 -> 41 | G41: (א) | H41: ממשלת ישראל שהונפקו בחו"ל | J41: =SUM(K41:CG41) -> 0
A42: =A41+1 -> 42 | G42: (ב) | H42: שהנפיקה ממשלה זרה | J42: =SUM(K42:CG42) -> 0
...
